BEGIN:VCALENDAR
VERSION:2.0
PRODID:-//Postural Restoration Institute - ECPv6.2.9//NONSGML v1.0//EN
CALSCALE:GREGORIAN
METHOD:PUBLISH
X-ORIGINAL-URL:https://priprdstg.dbmgo.com
X-WR-CALDESC:Events for Postural Restoration Institute
REFRESH-INTERVAL;VALUE=DURATION:PT1H
X-Robots-Tag:noindex
X-PUBLISHED-TTL:PT1H
BEGIN:VTIMEZONE
TZID:America/Chicago
BEGIN:DAYLIGHT
TZOFFSETFROM:-0600
TZOFFSETTO:-0500
TZNAME:CDT
DTSTART:20170312T080000
END:DAYLIGHT
BEGIN:STANDARD
TZOFFSETFROM:-0500
TZOFFSETTO:-0600
TZNAME:CST
DTSTART:20171105T070000
END:STANDARD
END:VTIMEZONE
BEGIN:VEVENT
DTSTART;TZID=America/Chicago:20171007T080000
DTEND;TZID=America/Chicago:20171008T170000
DTSTAMP:20260422T090215
CREATED:20230915T064734Z
LAST-MODIFIED:20230915T064734Z
UID:10000337-1507363200-1507482000@priprdstg.dbmgo.com
SUMMARY:PRI Integration for Fitness & Movement\, October 7-8\, 2017 (Minneapolis\, MN)
DESCRIPTION:Restoring Tri-Planar Performance Through Respiration and Alternating Reciprocal Activity
URL:https://priprdstg.dbmgo.com/courses/minnespolisfitness/
LOCATION:FITSPACE\, Minneapolis\, MN\, US
CATEGORIES:PRI Integration for Fitness & Movement
END:VEVENT
END:VCALENDAR