BEGIN:VCALENDAR
VERSION:2.0
PRODID:-//Postural Restoration Institute - ECPv6.2.9//NONSGML v1.0//EN
CALSCALE:GREGORIAN
METHOD:PUBLISH
X-ORIGINAL-URL:https://priprdstg.dbmgo.com
X-WR-CALDESC:Events for Postural Restoration Institute
REFRESH-INTERVAL;VALUE=DURATION:PT1H
X-Robots-Tag:noindex
X-PUBLISHED-TTL:PT1H
BEGIN:VTIMEZONE
TZID:America/Chicago
BEGIN:DAYLIGHT
TZOFFSETFROM:-0600
TZOFFSETTO:-0500
TZNAME:CDT
DTSTART:20130310T080000
END:DAYLIGHT
BEGIN:STANDARD
TZOFFSETFROM:-0500
TZOFFSETTO:-0600
TZNAME:CST
DTSTART:20131103T070000
END:STANDARD
BEGIN:DAYLIGHT
TZOFFSETFROM:-0600
TZOFFSETTO:-0500
TZNAME:CDT
DTSTART:20140309T080000
END:DAYLIGHT
BEGIN:STANDARD
TZOFFSETFROM:-0500
TZOFFSETTO:-0600
TZNAME:CST
DTSTART:20141102T070000
END:STANDARD
END:VTIMEZONE
BEGIN:VEVENT
DTSTART;TZID=America/Chicago:20141018T060000
DTEND;TZID=America/Chicago:20141019T150000
DTSTAMP:20260420T150357
CREATED:20230915T030347Z
LAST-MODIFIED:20230915T030347Z
UID:10000063-1413612000-1413730800@priprdstg.dbmgo.com
SUMMARY:Cervical-Cranio-Mandibular Restoration Phoenix Oct 18-19th
DESCRIPTION:An Integrated Approach to Treatment of Patterned Temporomandibular and Cervical Dysfunction
URL:https://priprdstg.dbmgo.com/courses/cer-111514/
LOCATION:East Valley Spine and Sports Medicine Center\, Chandler\, AZ\, US
CATEGORIES:Cervical Revolution
END:VEVENT
BEGIN:VEVENT
DTSTART;TZID=America/Chicago:20140308T080000
DTEND;TZID=America/Chicago:20140309T170000
DTSTAMP:20260420T150357
CREATED:20230915T041605Z
LAST-MODIFIED:20230915T041605Z
UID:10000079-1394265600-1394384400@priprdstg.dbmgo.com
SUMMARY:PRI Integration for the Home - Phoenix\, AZ March 8-9th
DESCRIPTION:PRI Integration for the Home
URL:https://priprdstg.dbmgo.com/courses/home030814/
LOCATION:East Valley Spine and Sports Medicine Center\, Chandler\, AZ\, US
CATEGORIES:Integration for the Home Health Clinician
END:VEVENT
BEGIN:VEVENT
DTSTART;TZID=America/Chicago:20131123T080000
DTEND;TZID=America/Chicago:20131124T170000
DTSTAMP:20260420T150357
CREATED:20230915T025649Z
LAST-MODIFIED:20230915T025649Z
UID:10000046-1385193600-1385312400@priprdstg.dbmgo.com
SUMMARY:Postural-Visual Integration
DESCRIPTION:Moving Beyond Sight
URL:https://priprdstg.dbmgo.com/courses/pvi-112313/
LOCATION:East Valley Spine and Sports Medicine Center\, Chandler\, AZ\, US
CATEGORIES:Postural-Visual Integration
END:VEVENT
END:VCALENDAR