BEGIN:VCALENDAR
VERSION:2.0
PRODID:-//Postural Restoration Institute - ECPv6.2.9//NONSGML v1.0//EN
CALSCALE:GREGORIAN
METHOD:PUBLISH
X-ORIGINAL-URL:https://priprdstg.dbmgo.com
X-WR-CALDESC:Events for Postural Restoration Institute
REFRESH-INTERVAL;VALUE=DURATION:PT1H
X-Robots-Tag:noindex
X-PUBLISHED-TTL:PT1H
BEGIN:VTIMEZONE
TZID:America/Chicago
BEGIN:DAYLIGHT
TZOFFSETFROM:-0600
TZOFFSETTO:-0500
TZNAME:CDT
DTSTART:20170312T080000
END:DAYLIGHT
BEGIN:STANDARD
TZOFFSETFROM:-0500
TZOFFSETTO:-0600
TZNAME:CST
DTSTART:20171105T070000
END:STANDARD
END:VTIMEZONE
BEGIN:VEVENT
DTSTART;TZID=America/Chicago:20170506T080000
DTEND;TZID=America/Chicago:20170507T170000
DTSTAMP:20260420T035422
CREATED:20230915T061323Z
LAST-MODIFIED:20230915T061323Z
UID:10000285-1494057600-1494176400@priprdstg.dbmgo.com
SUMMARY:Postural Respiration\, May 6-7\, 2017\, New York\, NY
DESCRIPTION:An Integrated Approach to Treatment of Patterned Thoraco-Abdominal Pathomechanics
URL:https://priprdstg.dbmgo.com/courses/posturalnewyork/
LOCATION:Finish Line Physical Therapy\, New York\, NY\, US
CATEGORIES:Postural Respiration
END:VEVENT
END:VCALENDAR