BEGIN:VCALENDAR
VERSION:2.0
PRODID:-//Postural Restoration Institute - ECPv6.2.9//NONSGML v1.0//EN
CALSCALE:GREGORIAN
METHOD:PUBLISH
X-ORIGINAL-URL:https://priprdstg.dbmgo.com
X-WR-CALDESC:Events for Postural Restoration Institute
REFRESH-INTERVAL;VALUE=DURATION:PT1H
X-Robots-Tag:noindex
X-PUBLISHED-TTL:PT1H
BEGIN:VTIMEZONE
TZID:America/Chicago
BEGIN:DAYLIGHT
TZOFFSETFROM:-0600
TZOFFSETTO:-0500
TZNAME:CDT
DTSTART:20170312T080000
END:DAYLIGHT
BEGIN:STANDARD
TZOFFSETFROM:-0500
TZOFFSETTO:-0600
TZNAME:CST
DTSTART:20171105T070000
END:STANDARD
END:VTIMEZONE
BEGIN:VEVENT
DTSTART;TZID=America/Chicago:20170722T080000
DTEND;TZID=America/Chicago:20170723T170000
DTSTAMP:20260420T075234
CREATED:20230915T070249Z
LAST-MODIFIED:20230915T070249Z
UID:10000363-1500710400-1500829200@priprdstg.dbmgo.com
SUMMARY:PRI Integration for Fitness and Movement\, July 22-23\, 2017 (Chapel Hill\, NC)
DESCRIPTION:PRI Integration for Fitness & Movement – Restoring Tri-Planar Performance Through Respiration and Alternating Reciprocal Activity
URL:https://priprdstg.dbmgo.com/courses/pri-integration-for-fitness-and-movement-july-22-23-2017-chapel-hill-nc/
LOCATION:University of North Carolina / NC State\, Chapel Hill\, NC\, US
CATEGORIES:PRI Integration for Fitness & Movement
END:VEVENT
BEGIN:VEVENT
DTSTART;TZID=America/Chicago:20170408T080000
DTEND;TZID=America/Chicago:20170409T170000
DTSTAMP:20260420T075234
CREATED:20230915T065844Z
LAST-MODIFIED:20230915T065844Z
UID:10000357-1491638400-1491757200@priprdstg.dbmgo.com
SUMMARY:PRI Integration for Fitness and Movement - April 8-9\, 2017 - London\, UK
DESCRIPTION:PRI Integration for Fitness & Movement – Restoring Tri-Planar Performance Through Respiration and Alternating Reciprocal Activity
URL:https://priprdstg.dbmgo.com/courses/pri-for-fitness-and-movement-april-8-9-london-uk/
LOCATION:Third Space Canary Warf Club\, London\, GB
CATEGORIES:PRI Integration for Fitness & Movement
END:VEVENT
BEGIN:VEVENT
DTSTART;TZID=America/Chicago:20170318T080000
DTEND;TZID=America/Chicago:20170319T170000
DTSTAMP:20260420T075234
CREATED:20230915T063641Z
LAST-MODIFIED:20230915T063641Z
UID:10000316-1489824000-1489942800@priprdstg.dbmgo.com
SUMMARY:PRI Integration for Fitness and Movement - March 18-19\, 2017 - Seattle\, WA
DESCRIPTION:PRI Integration for Fitness & Movement – Restoring Tri-Planar Performance Through Respiration and Alternating Reciprocal Activity
URL:https://priprdstg.dbmgo.com/courses/pri-integration-for-fitness-and-movement-march-18-19-2017-seattle-wa/
LOCATION:PRO Sports Club\, Seattle\, WA\, US
CATEGORIES:PRI Integration for Fitness & Movement
END:VEVENT
END:VCALENDAR